Workbook

Sheet 목록
A1: 구유 일반재산 현황 ('26.5월말 기준)
A3: 연번 | B3: 지방정부 코드 | C3: 지방정부명 | D3: 물건명 | E3: 소재지(지번) | F3: 주소의 지번주소 | G3: 토지/건물 | H3: 토지 | J3: 건물 | M3: 공개여부 | N3: 재산구분(행정/일반) | O3: 재산관리관 | P3: 행정재산 | Q3: 일반재신 | R3: 사용허가·대부 불가 사유 | S3: 유휴사유코드 | T3: 유휴사유명 | U3: 유휴사유 상세설명 | V3: 활용계획(예: 대부, 매각, 용도폐지 등) | X3: 오류 검증 | AA3: 담당자 연락처
H4: 지목 | I4: 면적(㎡) | J4: 건물구분 | K4: 건물용도 | L4: 연면적(㎡) | P4: 사용허가가능여부 | Q4: 대부/매각선택
A5: 합계 | D5: =SUBTOTAL(3,D6:D89) -> 84 | I5: =SUBTOTAL(9,I6:I89) -> 6056.4 | J5: =SUBTOTAL(3,J65:J72) -> 0 | K5: =SUBTOTAL(3,K65:K72) -> 0 | L5: =SUBTOTAL(3,L65:L72) -> 0
A6: 1 | B6: 3100000 | C6: 노원구 | D6: 서울특별시 노원구 월계동 699-4 | E6: 서울특별시 노원구 월계동 699-4 | F6: 서울특별시 노원구 월계동 699-4 | G6: 토지 | H6: 임야 | I6: 42 | M6: 공개 | N6: 일반재산 | O6: 재무과 | R6: 자동차학원 코너 도로 | S6: G05 | T6: 단순 미활용 | U6: 자동차학원 코너 도로 | X6: =VLOOKUP(N6,'[1]작성방법 관련'!$E$3:$F$5,2) -> G | Y6: =LEFT(S6,1) -> G | Z6: =EXACT(X6,Y6) -> TRUE | AA6: 02-2116-3450
A7: 2 | B7: 3100000 | C7: 노원구 | D7: 서울특별시 노원구 월계동 산 3-12 | E7: 서울특별시 노원구 월계동 산 3-12 | F7: 서울특별시 노원구 월계동 산 3-12 | G7: 토지 | H7: 임야 | I7: 1335 | M7: 공개 | N7: 일반재산 | O7: 재무과 | R7: 임야 | S7: G05 | T7: 단순 미활용 | U7: 도시계획(공원)도로 예정지 | X7: =VLOOKUP(N7,'[1]작성방법 관련'!$E$3:$F$5,2) -> G | Y7: =LEFT(S7,1) -> G | Z7: =EXACT(X7,Y7) -> TRUE | AA7: 02-2116-3450
A8: 3 | B8: 3100000 | C8: 노원구 | D8: 서울특별시 노원구 월계동 산 3-15 | E8: 서울특별시 노원구 월계동 산 3-15 | F8: 서울특별시 노원구 월계동 산 3-15 | G8: 토지 | H8: 임야 | I8: 149 | M8: 공개 | N8: 일반재산 | O8: 재무과 | R8: 임야 | S8: G05 | T8: 단순 미활용 | U8: 도시계획(공원)도로 예정지 | X8: =VLOOKUP(N8,'[1]작성방법 관련'!$E$3:$F$5,2) -> G | Y8: =LEFT(S8,1) -> G | Z8: =EXACT(X8,Y8) -> TRUE | AA8: 02-2116-3450
A9: 4 | B9: 3100000 | C9: 노원구 | D9: 서울특별시 노원구 월계동 산 108-27 | E9: 서울특별시 노원구 월계동 산 108-27 | F9: 서울특별시 노원구 월계동 산 108-27 | G9: 토지 | H9: 임야 | I9: 497 | M9: 공개 | N9: 일반재산 | O9: 재무과 | R9: 구민체육센터 뒷편 | S9: G05 | T9: 단순 미활용 | U9: 월계구민체육센터 바로 뒤 영축산 하단 공지 | X9: =VLOOKUP(N9,'[1]작성방법 관련'!$E$3:$F$5,2) -> G | Y9: =LEFT(S9,1) -> G | Z9: =EXACT(X9,Y9) -> TRUE | AA9: 02-2116-3450
A10: 5 | B10: 3100000 | C10: 노원구 | D10: 서울특별시 노원구 월계동 72-9 | E10: 서울특별시 노원구 월계동 72-9 | F10: 서울특별시 노원구 월계동 72-9 | G10: 토지 | H10: 대 | I10: 1 | M10: 공개 | N10: 일반재산 | O10: 재무과 | R10: 인도 | S10: G05 | T10: 단순 미활용 | U10: 인접지 건물 앞 인도 | X10: =VLOOKUP(N10,'[1]작성방법 관련'!$E$3:$F$5,2) -> G | Y10: =LEFT(S10,1) -> G | Z10: =EXACT(X10,Y10) -> TRUE | AA10: 02-2116-3450
A11: 6 | B11: 3100000 | C11: 노원구 | D11: 서울특별시 노원구 월계동 87-7 | E11: 서울특별시 노원구 월계동 87-7 | F11: 서울특별시 노원구 월계동 87-7 | G11: 토지 | H11: 대 | I11: 75 | M11: 공개 | N11: 일반재산 | O11: 재무과 | R11: 아파트 뒷쪽 공터 | S11: G05 | T11: 단순 미활용 | U11: 광운대역세권물류부지 개발사업 근처 부지 | X11: =VLOOKUP(N11,'[1]작성방법 관련'!$E$3:$F$5,2) -> G | Y11: =LEFT(S11,1) -> G | Z11: =EXACT(X11,Y11) -> TRUE | AA11: 02-2116-3450
A12: 7 | B12: 3100000 | C12: 노원구 | D12: 서울특별시 노원구 월계동 104-22 | E12: 서울특별시 노원구 월계동 104-22 | F12: 서울특별시 노원구 월계동 104-22 | G12: 토지 | H12: 대 | I12: 4 | M12: 공개 | N12: 일반재산 | O12: 재무과 | R12: 지하주차장 입구 | S12: G05 | T12: 단순 미활용 | U12: 아파트 앞 지하주차장 입구 | X12: =VLOOKUP(N12,'[1]작성방법 관련'!$E$3:$F$5,2) -> G | Y12: =LEFT(S12,1) -> G | Z12: =EXACT(X12,Y12) -> TRUE | AA12: 02-2116-3450
A13: 8 | B13: 3100000 | C13: 노원구 | D13: 서울특별시 노원구 월계동 104-23 | E13: 서울특별시 노원구 월계동 104-23 | F13: 서울특별시 노원구 월계동 104-23 | G13: 토지 | H13: 대 | I13: 1 | M13: 공개 | N13: 일반재산 | O13: 재무과 | R13: 지하주차장 입구 | S13: G05 | T13: 단순 미활용 | U13: 아파트 앞 지하주차장 입구 | X13: =VLOOKUP(N13,'[1]작성방법 관련'!$E$3:$F$5,2) -> G | Y13: =LEFT(S13,1) -> G | Z13: =EXACT(X13,Y13) -> TRUE | AA13: 02-2116-3450
A14: 9 | B14: 3100000 | C14: 노원구 | D14: 서울특별시 노원구 월계동 163-1 | E14: 서울특별시 노원구 월계동 163-1 | F14: 서울특별시 노원구 월계동 163-1 | G14: 토지 | H14: 대 | I14: 333 | M14: 공개 | N14: 일반재산 | O14: 재무과 | R14: 광운대역물류부지 | S14: G05 | T14: 단순 미활용 | U14: 광운대역물류부지 개발사업 내 부지 | X14: =VLOOKUP(N14,'[1]작성방법 관련'!$E$3:$F$5,2) -> G | Y14: =LEFT(S14,1) -> G | Z14: =EXACT(X14,Y14) -> TRUE | AA14: 02-2116-3450
A15: 10 | B15: 3100000 | C15: 노원구 | D15: 서울특별시 노원구 월계동 163-7 | E15: 서울특별시 노원구 월계동 163-7 | F15: 서울특별시 노원구 월계동 163-7 | G15: 토지 | H15: 철도용지 | I15: 397 | M15: 공개 | N15: 일반재산 | O15: 재무과 | R15: 광운대역물류부지 | S15: G05 | T15: 단순 미활용 | U15: 광운대역물류부지 개발사업 내 부지 | X15: =VLOOKUP(N15,'[1]작성방법 관련'!$E$3:$F$5,2) -> G | Y15: =LEFT(S15,1) -> G | Z15: =EXACT(X15,Y15) -> TRUE | AA15: 02-2116-3450
A16: 11 | B16: 3100000 | C16: 노원구 | D16: 서울특별시 노원구 월계동 166-4 | E16: 서울특별시 노원구 월계동 166-4 | F16: 서울특별시 노원구 월계동 166-4 | G16: 토지 | H16: 대 | I16: 139 | M16: 공개 | N16: 일반재산 | O16: 재무과 | R16: 광운대역물류부지 | S16: G05 | T16: 단순 미활용 | U16: 광운대역물류부지 개발사업 내 부지 | X16: =VLOOKUP(N16,'[1]작성방법 관련'!$E$3:$F$5,2) -> G | Y16: =LEFT(S16,1) -> G | Z16: =EXACT(X16,Y16) -> TRUE | AA16: 02-2116-3450
A17: 12 | B17: 3100000 | C17: 노원구 | D17: 서울특별시 노원구 월계동 232-6 | E17: 서울특별시 노원구 월계동 232-6 | F17: 서울특별시 노원구 월계동 232-6 | G17: 토지 | H17: 대 | I17: 9 | M17: 공개 | N17: 일반재산 | O17: 재무과 | R17: 월계역 에스컬레이터 옆 공지 | S17: G05 | T17: 단순 미활용 | U17: 월계역 에스컬레이터 옆 공지 | X17: =VLOOKUP(N17,'[1]작성방법 관련'!$E$3:$F$5,2) -> G | Y17: =LEFT(S17,1) -> G | Z17: =EXACT(X17,Y17) -> TRUE | AA17: 02-2116-3450
... A25: 20 | B25: 3100000 | C25: 노원구 | D25: 서울특별시 노원구 월계동 939-1 | E25: 서울특별시 노원구 월계동 939-1 | F25: 서울특별시 노원구 월계동 939-1 | G25: 토지 | H25: 대 | I25: 251.1 | M25: 공개 | N25: 일반재산 | O25: 재무과 | R25: 녹지 | S25: G05 | T25: 단순 미활용 | U25: 녹지 | X25: =VLOOKUP(N25,'[1]작성방법 관련'!$E$3:$F$5,2) -> G | Y25: =LEFT(S25,1) -> G | Z25: =EXACT(X25,Y25) -> TRUE | AA25: 02-2116-3450
A26: 21 | B26: 3100000 | C26: 노원구 | D26: 서울특별시 노원구 월계동 502-14 | E26: 서울특별시 노원구 월계동 502-14 | F26: 서울특별시 노원구 월계동 502-14 | G26: 토지 | H26: 대 | I26: 76 | M26: 공개 | N26: 일반재산 | O26: 재무과 | Q26: 대부/매각대상 | R26: 담장 뒤 공지 | S26: G05 | T26: 단순 미활용 | U26: 일부 필지(50㎡) 대부 및 잔여필지(26㎡) 공지 | X26: =VLOOKUP(N26,'[1]작성방법 관련'!$E$3:$F$5,2) -> G | Y26: =LEFT(S26,1) -> G | Z26: =EXACT(X26,Y26) -> TRUE | AA26: 02-2116-3450
A27: 22 | B27: 3100000 | C27: 노원구 | D27: 서울특별시 노원구 월계동 502-45 | E27: 서울특별시 노원구 월계동 502-45 | F27: 서울특별시 노원구 월계동 502-45 | G27: 토지 | H27: 대 | I27: 60 | M27: 공개 | N27: 일반재산 | O27: 재무과 | Q27: 대부/매각대상 | R27: 가게 뒤 공지 | S27: G05 | T27: 단순 미활용 | U27: 가게 뒤 담장 안 공지 | X27: =VLOOKUP(N27,'[1]작성방법 관련'!$E$3:$F$5,2) -> G | Y27: =LEFT(S27,1) -> G | Z27: =EXACT(X27,Y27) -> TRUE | AA27: 02-2116-3450
A28: 23 | B28: 3100000 | C28: 노원구 | D28: 서울특별시 노원구 월계동 502-54 | E28: 서울특별시 노원구 월계동 502-54 | F28: 서울특별시 노원구 월계동 502-54 | G28: 토지 | H28: 대 | I28: 1 | M28: 공개 | N28: 일반재산 | O28: 재무과 | Q28: 대부/매각대상 | R28: 담장 안 공지 | S28: G05 | T28: 단순 미활용 | U28: 담장 안 공지(맹지) | X28: =VLOOKUP(N28,'[1]작성방법 관련'!$E$3:$F$5,2) -> G | Y28: =LEFT(S28,1) -> G | Z28: =EXACT(X28,Y28) -> TRUE | AA28: 02-2116-3450
A29: 24 | B29: 3100000 | C29: 노원구 | D29: 서울특별시 노원구 월계동 502-55 | E29: 서울특별시 노원구 월계동 502-55 | F29: 서울특별시 노원구 월계동 502-55 | G29: 토지 | H29: 대 | I29: 2 | M29: 공개 | N29: 일반재산 | O29: 재무과 | Q29: 대부/매각대상 | R29: 담장 안 공지 | S29: G05 | T29: 단순 미활용 | U29: 담장 안 공지(맹지) | X29: =VLOOKUP(N29,'[1]작성방법 관련'!$E$3:$F$5,2) -> G | Y29: =LEFT(S29,1) -> G | Z29: =EXACT(X29,Y29) -> TRUE | AA29: 02-2116-3450
A30: 25 | B30: 3100000 | C30: 노원구 | D30: 서울특별시 노원구 월계동 502-56 | E30: 서울특별시 노원구 월계동 502-56 | F30: 서울특별시 노원구 월계동 502-56 | G30: 토지 | H30: 대 | I30: 9 | M30: 공개 | N30: 일반재산 | O30: 재무과 | Q30: 대부/매각대상 | R30: 담장 안 공지 | S30: G05 | T30: 단순 미활용 | U30: 담장 안 공지(맹지) | X30: =VLOOKUP(N30,'[1]작성방법 관련'!$E$3:$F$5,2) -> G | Y30: =LEFT(S30,1) -> G | Z30: =EXACT(X30,Y30) -> TRUE | AA30: 02-2116-3450
A31: 26 | B31: 3100000 | C31: 노원구 | D31: 서울특별시 노원구 월계동 502-58 | E31: 서울특별시 노원구 월계동 502-58 | F31: 서울특별시 노원구 월계동 502-58 | G31: 토지 | H31: 대 | I31: 36 | M31: 공개 | N31: 일반재산 | O31: 재무과 | Q31: 대부/매각대상 | R31: 담장 안 공지 | S31: G05 | T31: 단순 미활용 | U31: 일부 필지(22㎡) 대부 및 잔여필지(14㎡) 공지 | V31: 잔여필지는 맹지로 계획 없음 | X31: =VLOOKUP(N31,'[1]작성방법 관련'!$E$3:$F$5,2) -> G | Y31: =LEFT(S31,1) -> G | Z31: =EXACT(X31,Y31) -> TRUE | AA31: 02-2116-3450
A32: 27 | B32: 3100000 | C32: 노원구 | D32: 서울특별시 노원구 월계동 산 136-6 | E32: 서울특별시 노원구 월계동 산 136-6 | F32: 서울특별시 노원구 월계동 산 136-6 | G32: 토지 | H32: 임야 | I32: 62 | M32: 공개 | N32: 일반재산 | O32: 재무과 | Q32: 대부/매각대상 | R32: 녹지 | S32: G05 | T32: 단순 미활용 | U32: 녹지(벼루 어린이공원 위) | X32: =VLOOKUP(N32,'[1]작성방법 관련'!$E$3:$F$5,2) -> G | Y32: =LEFT(S32,1) -> G | Z32: =EXACT(X32,Y32) -> TRUE | AA32: 02-2116-3450
A33: 28 | B33: 3100000 | C33: 노원구 | D33: 서울특별시 노원구 공릉동 172-23 | E33: 서울특별시 노원구 공릉동 172-23 | F33: 서울특별시 노원구 공릉동 172-23 | G33: 토지 | H33: 대 | I33: 3 | M33: 공개 | N33: 일반재산 | O33: 재무과 | R33: 녹지대 | S33: G05 | T33: 단순 미활용 | U33: 소규모 면적이며 녹지대임 | V33: 용도변경 검토 | X33: =VLOOKUP(N33,'[1]작성방법 관련'!$E$3:$F$5,2) -> G | Y33: =LEFT(S33,1) -> G | Z33: =EXACT(X33,Y33) -> TRUE | AA33: 02-2116-3452
A34: 29 | B34: 3100000 | C34: 노원구 | D34: 서울특별시 노원구 공릉동 172-35 | E34: 서울특별시 노원구 공릉동 172-35 | F34: 서울특별시 노원구 공릉동 172-35 | G34: 토지 | H34: 대 | I34: 2 | M34: 공개 | N34: 일반재산 | O34: 재무과 | Q34: 매각대상 | R34: 인도 | S34: G05 | T34: 단순 미활용 | U34: 소규모 면적이며 인도임 | V34: 용도변경 검토 | X34: =VLOOKUP(N34,'[1]작성방법 관련'!$E$3:$F$5,2) -> G | Y34: =LEFT(S34,1) -> G | Z34: =EXACT(X34,Y34) -> TRUE | AA34: 02-2116-3452
A35: 30 | B35: 3100000 | C35: 노원구 | D35: 서울특별시 노원구 공릉동 441-165 | E35: 서울특별시 노원구 공릉동 441-165 | F35: 서울특별시 노원구 공릉동 441-165 | G35: 토지 | H35: 도로 | I35: 16 | M35: 공개 | N35: 일반재산 | O35: 재무과 | R35: 도로 | S35: G05 | T35: 단순 미활용 | U35: 주택가 도로로 사용중 | V35: 용도변경 검토 | X35: =VLOOKUP(N35,'[1]작성방법 관련'!$E$3:$F$5,2) -> G | Y35: =LEFT(S35,1) -> G | Z35: =EXACT(X35,Y35) -> TRUE | AA35: 02-2116-3452
A36: 31 | B36: 3100000 | C36: 노원구 | D36: 서울특별시 노원구 공릉동 441-167 | E36: 서울특별시 노원구 공릉동 441-167 | F36: 서울특별시 노원구 공릉동 441-167 | G36: 토지 | H36: 도로 | I36: 28 | M36: 공개 | N36: 일반재산 | O36: 재무과 | R36: 도로 | S36: G05 | T36: 단순 미활용 | U36: 주택가 도로로 사용중 | V36: 용도변경 검토 | X36: =VLOOKUP(N36,'[1]작성방법 관련'!$E$3:$F$5,2) -> G | Y36: =LEFT(S36,1) -> G | Z36: =EXACT(X36,Y36) -> TRUE | AA36: 02-2116-3452
A37: 32 | B37: 3100000 | C37: 노원구 | D37: 서울특별시 노원구 공릉동 441-190 | E37: 서울특별시 노원구 공릉동 441-190 | F37: 서울특별시 노원구 공릉동 441-190 | G37: 토지 | H37: 대 | I37: 16 | M37: 공개 | N37: 일반재산 | O37: 재무과 | Q37: 매각대상 | R37: 도로 | S37: G05 | T37: 단순 미활용 | U37: 소규모 면적이며 주택가 공지임 | X37: =VLOOKUP(N37,'[1]작성방법 관련'!$E$3:$F$5,2) -> G | Y37: =LEFT(S37,1) -> G | Z37: =EXACT(X37,Y37) -> TRUE | AA37: 02-2116-3452
A38: 33 | B38: 3100000 | C38: 노원구 | D38: 서울특별시 노원구 공릉동 498-9 | E38: 서울특별시 노원구 공릉동 498-9 | F38: 서울특별시 노원구 공릉동 498-9 | G38: 토지 | H38: 대 | I38: 31 | M38: 공개 | N38: 일반재산 | O38: 재무과 | R38: 녹지대 | S38: G05 | T38: 단순 미활용 | U38: 소규모 면적이며 녹지대임 | V38: 용도변경 검토 | X38: =VLOOKUP(N38,'[1]작성방법 관련'!$E$3:$F$5,2) -> G | Y38: =LEFT(S38,1) -> G | Z38: =EXACT(X38,Y38) -> TRUE | AA38: 02-2116-3452
A39: 34 | B39: 3100000 | C39: 노원구 | D39: 서울특별시 노원구 공릉동 543-32 | E39: 서울특별시 노원구 공릉동 543-32 | F39: 서울특별시 노원구 공릉동 543-32 | G39: 토지 | H39: 잡종지 | I39: 20 | M39: 공개 | N39: 일반재산 | O39: 재무과 | R39: 공원 | S39: G05 | T39: 단순 미활용 | U39: 공원으로 사용중 | V39: 용도변경 검토 | X39: =VLOOKUP(N39,'[1]작성방법 관련'!$E$3:$F$5,2) -> G | Y39: =LEFT(S39,1) -> G | Z39: =EXACT(X39,Y39) -> TRUE | AA39: 02-2116-3452
A40: 35 | B40: 3100000 | C40: 노원구 | D40: 서울특별시 노원구 공릉동 543-36 | E40: 서울특별시 노원구 공릉동 543-36 | F40: 서울특별시 노원구 공릉동 543-36 | G40: 토지 | H40: 잡종지 | I40: 144 | M40: 공개 | N40: 일반재산 | O40: 재무과 | R40: 공원 | S40: G05 | T40: 단순 미활용 | U40: 공원으로 사용중 | V40: 용도변경 검토 | X40: =VLOOKUP(N40,'[1]작성방법 관련'!$E$3:$F$5,2) -> G | Y40: =LEFT(S40,1) -> G | Z40: =EXACT(X40,Y40) -> TRUE | AA40: 02-2116-3452
A41: 36 | B41: 3100000 | C41: 노원구 | D41: 서울특별시 노원구 공릉동 547-8 | E41: 서울특별시 노원구 공릉동 547-8 | F41: 서울특별시 노원구 공릉동 547-8 | G41: 토지 | H41: 잡종지 | I41: 3 | M41: 공개 | N41: 일반재산 | O41: 재무과 | R41: 공원 | S41: G05 | T41: 단순 미활용 | U41: 공원으로 사용중 | V41: 용도변경 검토 | X41: =VLOOKUP(N41,'[1]작성방법 관련'!$E$3:$F$5,2) -> G | Y41: =LEFT(S41,1) -> G | Z41: =EXACT(X41,Y41) -> TRUE | AA41: 02-2116-3452
A42: 37 | B42: 3100000 | C42: 노원구 | D42: 서울특별시 노원구 공릉동 626-3 | E42: 서울특별시 노원구 공릉동 626-3 | F42: 서울특별시 노원구 공릉동 626-3 | G42: 토지 | H42: 잡종지 | I42: 330 | M42: 공개 | N42: 일반재산 | O42: 재무과 | R42: 공원 | S42: G05 | T42: 단순 미활용 | U42: 공원으로 사용중 | V42: 용도변경 검토 | X42: =VLOOKUP(N42,'[1]작성방법 관련'!$E$3:$F$5,2) -> G | Y42: =LEFT(S42,1) -> G | Z42: =EXACT(X42,Y42) -> TRUE | AA42: 02-2116-3452
A43: 38 | B43: 3100000 | C43: 노원구 | D43: 서울특별시 노원구 하계동 64-17 | E43: 서울특별시 노원구 하계동 64-17 | F43: 서울특별시 노원구 하계동 64-17 | G43: 토지 | H43: 대 | I43: 1 | M43: 공개 | N43: 일반재산 | O43: 재무과 | R43: 건물 앞 공지 | S43: G05 | T43: 단순 미활용 | U43: 공지 | X43: =VLOOKUP(N43,'[1]작성방법 관련'!$E$3:$F$5,2) -> G | Y43: =LEFT(S43,1) -> G | Z43: =EXACT(X43,Y43) -> TRUE | AA43: 02-2116-3450
A44: 39 | B44: 3100000 | C44: 노원구 | D44: 서울특별시 노원구 하계동 78-17 | E44: 서울특별시 노원구 하계동 78-17 | F44: 서울특별시 노원구 하계동 78-17 | G44: 토지 | H44: 학교용지 | I44: 4 | M44: 공개 | N44: 일반재산 | O44: 재무과 | R44: 건물 앞 공지 | S44: G05 | T44: 단순 미활용 | U44: 공지 | X44: =VLOOKUP(N44,'[1]작성방법 관련'!$E$3:$F$5,2) -> G | Y44: =LEFT(S44,1) -> G | Z44: =EXACT(X44,Y44) -> TRUE | AA44: 02-2116-3450
A45: 40 | B45: 3100000 | C45: 노원구 | D45: 서울특별시 노원구 하계동 120-8 | E45: 서울특별시 노원구 하계동 120-8 | F45: 서울특별시 노원구 하계동 120-8 | G45: 토지 | H45: 전 | I45: 2 | M45: 공개 | N45: 일반재산 | O45: 재무과 | R45: 빌라 옆 도로 | S45: G05 | T45: 단순 미활용 | U45: 빌라 옆 도로 | X45: =VLOOKUP(N45,'[1]작성방법 관련'!$E$3:$F$5,2) -> G | Y45: =LEFT(S45,1) -> G | Z45: =EXACT(X45,Y45) -> TRUE | AA45: 02-2116-3450
A46: 41 | B46: 3100000 | C46: 노원구 | D46: 서울특별시 노원구 하계동 135-56 | E46: 서울특별시 노원구 하계동 135-56 | F46: 서울특별시 노원구 하계동 135-56 | G46: 토지 | H46: 도로 | I46: 2 | M46: 공개 | N46: 일반재산 | O46: 재무과 | R46: 어린이집 앞 도로 | S46: G05 | T46: 단순 미활용 | U46: 어린이집 앞 도로 | X46: =VLOOKUP(N46,'[1]작성방법 관련'!$E$3:$F$5,2) -> G | Y46: =LEFT(S46,1) -> G | Z46: =EXACT(X46,Y46) -> TRUE | AA46: 02-2116-3450
A47: 42 | B47: 3100000 | C47: 노원구 | D47: 서울특별시 노원구 하계동 155-17 | E47: 서울특별시 노원구 하계동 155-17 | F47: 서울특별시 노원구 하계동 155-17 | G47: 토지 | H47: 도로 | I47: 5 | M47: 공개 | N47: 일반재산 | O47: 재무과 | R47: 도로 | S47: G05 | T47: 단순 미활용 | U47: 건물 앞쪽 공지 | X47: =VLOOKUP(N47,'[1]작성방법 관련'!$E$3:$F$5,2) -> G | Y47: =LEFT(S47,1) -> G | Z47: =EXACT(X47,Y47) -> TRUE | AA47: 02-2116-3450
A48: 43 | B48: 3100000 | C48: 노원구 | D48: 서울특별시 노원구 하계동 170-52 | E48: 서울특별시 노원구 하계동 170-52 | F48: 서울특별시 노원구 하계동 170-52 | G48: 토지 | H48: 대 | I48: 8 | M48: 공개 | N48: 일반재산 | O48: 재무과 | R48: 신축 건물 옆 공지 | S48: G05 | T48: 단순 미활용 | U48: 신축 건물 옆 도로 | X48: =VLOOKUP(N48,'[1]작성방법 관련'!$E$3:$F$5,2) -> G | Y48: =LEFT(S48,1) -> G | Z48: =EXACT(X48,Y48) -> TRUE | AA48: 02-2116-3450
...

Sheet 작성방법 관련
C2: 20 | E2: 15, 오류검증 | H2: 8 | L2: 9 | O2: 11 | R2: 12 | U2: 18
B3: 코드 | C3: 유휴사유 분류 | E3: 구분 | F3: 코드 | H3: 토지/건물 구분 OJ0001 | L3: 토지(공부)지목 OJ0002 | O3: 건물구분 OJ0007 | R3: 건물용도 OJ0003 | U3: 대부/매각
B4: A01 | C4: 사용허가 가능 재산(공실 등) | E4: 일반재산 | F4: G | H4: 01 | I4: 토지 | L4: 1 | M4: 전 | O4: 10 | P4: 사무소 | R4: 1 | S4: 단독주택 | U4: 01 | V4: 대부대상
B5: A02 | C5: 용도폐지 대상 | E5: 행정재산 | F5: A | H5: 02 | I5: 건물 | L5: 2 | M5: 답 | O5: 50 | P5: 주택 | R5: 2 | S5: 공동주택 | U5: 02 | V5: 매각대상
B6: G01 | C6: 대부계약 만료 후 미대부 상태 | L6: 3 | M6: 과수원 | O6: 99 | P6: 기타 | R6: 3 | S6: 제1종 근린생활시설 | U6: 03 | V6: 대부/매각대상
B7: G02 | C7: 대부 예정 재산 | L7: 4 | M7: 목장용지 | R7: 4 | S7: 제2종 근린생활시설
B8: G03 | C8: 무단점유 재산 | L8: 5 | M8: 임야 | R8: 5 | S8: 문화 및 집회시설
B9: G04 | C9: 누락재산 중 미활용 상태 | L9: 6 | M9: 광천지 | R9: 6 | S9: 판매 및 영업시설
B10: G05 | C10: 단순 미활용 | L10: 7 | M10: 염전 | R10: 7 | S10: 의료시설
L11: 8 | M11: 대 | R11: 8 | S11: 교육연구 및 복지시설
L12: 9 | M12: 공장용지 | R12: 9 | S12: 운동시설
L13: 10 | M13: 학교용지 | R13: 10 | S13: 업무시설
L14: 11 | M14: 주차장 | R14: 11 | S14: 숙박시설
L15: 12 | M15: 주유소용지 | R15: 12 | S15: 위락시설
L16: 13 | M16: 창고용지 | R16: 13 | S16: 공장
L17: 14 | M17: 도로 | R17: 14 | S17: 창고시설
L18: 15 | M18: 철도용지 | R18: 15 | S18: 위험물저장 및 처리시설
L19: 16 | M19: 제방 | R19: 16 | S19: 자동차관련시설
L20: 17 | M20: 하천 | R20: 17 | S20: 동물 및 식물관련시설
L21: 18 | M21: 구거 | R21: 18 | S21: 분뇨 및 쓰레기처리시설
L22: 19 | M22: 유지 | R22: 19 | S22: 공공용시설
... L31: 28 | M31: 잡종지 | R31: 28 | S31: 발전시설
R32: 99 | S32: 기타
